BEGIN:VCALENDAR
VERSION:2.0
PRODID:-//Le guide du Maroc - ECPv6.15.18//NONSGML v1.0//EN
CALSCALE:GREGORIAN
METHOD:PUBLISH
X-ORIGINAL-URL:https://leguide.ma
X-WR-CALDESC:Évènements pour Le guide du Maroc
REFRESH-INTERVAL;VALUE=DURATION:PT1H
X-Robots-Tag:noindex
X-PUBLISHED-TTL:PT1H
BEGIN:VTIMEZONE
TZID:UTC
BEGIN:STANDARD
TZOFFSETFROM:+0000
TZOFFSETTO:+0000
TZNAME:UTC
DTSTART:20240101T000000
END:STANDARD
END:VTIMEZONE
BEGIN:VEVENT
DTSTART;VALUE=DATE:20250515
DTEND;VALUE=DATE:20250517
DTSTAMP:20260422T193251
CREATED:20250512T150134Z
LAST-MODIFIED:20250512T150134Z
UID:25592-1747267200-1747439999@leguide.ma
SUMMARY:La Culture Coréenne à l’Honneur au Théâtre Mohammed V
DESCRIPTION:La culture coréenne est mise à l’honneur au Théâtre Mohammed V de Rabat dans le cadre de « Korea Culture Week ». \nOrganisé par l’ambassade de la République de Corée au Maroc\, les 15 et 16 mai à Rabat\, cet événement permettra au public de découvrir la culture coréenne et de faire un voyage dans l’univers créatif de ce pays. Un concert de chant d’Opéra classique et de Gagok se tiendra le 15 mai alliant Opéra classique et chant traditionnel coréen Gagok. Les amoureux de la culture coréenne auront rendez-vous avec une soirée de chants d’opéra classique et de Gagok\, cette tradition lyrique coréenne empreinte d’émotion\, interprétée par des artistes coréens. \nLe 16 mai\, le public sera en totale immersion dans la culture coréenne moderne avec une expérience Squid Game\, un défilé de mode de Hanbok (costume traditionnel coréen)\, K Beauty Demonstration ainsi que le K-pop Performances seront proposés. \n 
URL:https://leguide.ma/event/la-culture-coreenne-a-lhonneur-au-theatre-mohammed-v/
LOCATION:RABAT
CATEGORIES:Théâtre
ATTACH;FMTTYPE=image/jpeg:https://leguide.ma/WP_2022/wp-content/uploads/2025/05/Korea-01-scaled.jpg
END:VEVENT
END:VCALENDAR