BEGIN:VCALENDAR
VERSION:2.0
PRODID:-//Le guide du Maroc - ECPv6.15.18//NONSGML v1.0//EN
CALSCALE:GREGORIAN
METHOD:PUBLISH
X-ORIGINAL-URL:https://leguide.ma
X-WR-CALDESC:Évènements pour Le guide du Maroc
REFRESH-INTERVAL;VALUE=DURATION:PT1H
X-Robots-Tag:noindex
X-PUBLISHED-TTL:PT1H
BEGIN:VTIMEZONE
TZID:UTC
BEGIN:STANDARD
TZOFFSETFROM:+0000
TZOFFSETTO:+0000
TZNAME:UTC
DTSTART:20250101T000000
END:STANDARD
END:VTIMEZONE
BEGIN:VEVENT
DTSTART;VALUE=DATE:20260327
DTEND;VALUE=DATE:20260412
DTSTAMP:20260420T031429
CREATED:20260327T134138Z
LAST-MODIFIED:20260327T134138Z
UID:31115-1774569600-1775951999@leguide.ma
SUMMARY:La 35e édition Rallye Aïcha des Gazelles
DESCRIPTION:Pas moins de 160 équipages 100% féminins s’élanceront\, samedi à Nice\, en direction du Sahara marocain pour la 35e édition Rallye Aïcha des Gazelles\, un événement sportif et humain unique au monde. \nC’est au Palais Nikaïa que se déroulera le départ officiel du Rallye Aïcha des Gazelles du Maroc\, prévu du 27 mars au 11 avril\, « pour rejoindre le sud marocain et vivre une aventure hors norme basée sur la navigation à l’ancienne\, sans GPS »\, indique-t-on auprès des organisateurs. \nLes équipages composés de 320 femmes venues de tous horizons relèveront un défi sportif\, humain et solidaire\, franchiront ensuite la ligne de départ en prélude à une aventure singulière dans le désert. \nIls sont répartis en quatre catégories : les Quads-SSV\, les 4×4-Camions\, les véhicules électriques et les Crossover\, « une diversité qui reflète l’évolution de la compétition tout en restant fidèle à son ADN ». \nLes femmes participantes représentent la Belgique\, le Canada\, la France\, l’Italie\, la Suisse et le Maroc\, une présence qui illustre le rayonnement international de l’événement. Dans ce rallye exclusivement hors-piste\, sans systèmes de navigation pour s’orienter\, l’équipage gagnant est celui qui parcourt le moins de kilomètres sur neuf jours en six étapes autour de valeurs responsables et solidaires. \nLa journée d’ouverture de cette édition\, marquée par un anniversaire emblématique du rallye\, sera ponctuée par des animations musicales avec notamment un concert de Joseph Kamel\, des performances de danse et la réalisation d’une fresque géante par un artiste niçois. \n« Le Rallye Aïcha des Gazelles du Maroc est la seule compétition automobile internationale exclusivement féminine qui privilégie la navigation et la stratégie plutôt que la vitesse\, avec l’objectif de parcourir le moins de kilomètres possible entre les balises\, en utilisant uniquement carte et boussole »\, soulignent les organisateurs dans un communiqué. \nPrécurseur en termes de responsabilité environnementale\, le Rallye s’engage en faveur d’une organisation certifiée ISO 14001\, du développement de la catégorie E-Gazelles et de l’action solidaire. « Cette édition anniversaire incarne à la fois l’héritage du rallye et sa capacité à se réinventer »\, a affirmé la fondatrice du Rallye\, Dominique Serra\, relevant que l’évènement démontre depuis 35 ans « qu’il est possible de concilier performance\, engagement et respect ». \nLancé en 1990\, le Rallye Aïcha des Gazelles défend une vision singulière de la compétition\, fondée sur la stratégie\, la précision\, l’entraide et le dépassement de soi\, plutôt que sur la vitesse. Pour l’édition 2026\, la star internationale et lauréate de l’Oscar de la meilleure actrice\, Michelle Yeoh\, a été désignée comme ambassadrice officielle de la 35e édition du Rallye. \n  \n 
URL:https://leguide.ma/event/la-35e-edition-rallye-aicha-des-gazelles/
CATEGORIES:Sport
ATTACH;FMTTYPE=image/jpeg:https://leguide.ma/WP_2022/wp-content/uploads/2026/03/Gazelles-01-scaled.jpg
END:VEVENT
BEGIN:VEVENT
DTSTART;VALUE=DATE:20260403
DTEND;VALUE=DATE:20260414
DTSTAMP:20260420T031429
CREATED:20260327T134758Z
LAST-MODIFIED:20260327T134758Z
UID:31120-1775174400-1776124799@leguide.ma
SUMMARY:La 40e édition du Marathon des sables
DESCRIPTION:La 40e édition du Marathon des sables Legendary s’annonce avec une participation record cette année. Du 3 au 13 avril 2026\, au cœur du Sahara marocain\, l’épreuve mythique de l’ultra-endurance franchira un nouveau cap\, avec plus de 1.500 coureurs sur la ligne de départ. \nLe mois d’avril enregistrera le retour d’une épreuve de référence\, un périple en plein désert considéré par plusieurs comme étant l’une des courses les plus difficiles au monde. Né en 1986 avec seulement 23 aventuriers\, le Marathon des sables s’est progressivement imposé comme une référence absolue dans le monde de l’ultra-trail. Aujourd’hui\, plus de 1.500 participants issus de 62 nationalités s’apprêtent à prendre le départ\, tandis que des centaines d’autres figurent sur liste d’attente. Un chiffre inédit qui témoigne de l’attractivité croissante de cette aventure hors du commun. \nDurant 11 jours\, dont 9 en immersion totale dans le désert\, les concurrents devront parcourir environ 270 kilomètres en autosuffisance alimentaire. Une expérience unique\, où l’endurance physique se double d’un défi mental intense\, dans un environnement aussi majestueux qu’impitoyable. Cette édition anniversaire se distingue également par une innovation de taille : pour la première fois\, l’étape longue atteindra les 100 kilomètres\, renforçant encore la dimension extrême de l’épreuve. Un symbole fort pour célébrer quarante ans d’exploits et d’histoires humaines gravées dans le sable. \nSur le plan sportif\, la bataille promet d’être palpitante. Les figures emblématiques marocaines\, à l’image de Rachid El Morabity et Mohamed El Morabity\, devront faire face à une concurrence internationale redoutable\, incarnée notamment par Ludovic Pommeret ou encore Ryan Sandes.\n\nChez les femmes\, le niveau s’annonce tout aussi relevé avec des athlètes de renom comme Maryline Nakache\, Magdalena Boulet et la Marocaine Aziza El Amrany\, déterminées à marquer de leur empreinte cette édition historique. Le Marathon des Sables se veut aussi une aventure humaine unique\, en témoignent les liens forts qui se tissent entre des participants venus des quatre coins du monde\, unis par le même défi et la même quête de dépassement. \nAvec une participation jamais égalée\, cette 40e édition confirme que le Marathon des sables n’est pas seulement une course : c’est une légende vivante\, qui continue de fasciner et de rassembler\, année après année\, les passionnés d’aventure et d’extrême. \n\n\n 
URL:https://leguide.ma/event/la-40e-edition-du-marathon-des-sables/
CATEGORIES:Sport
ATTACH;FMTTYPE=image/jpeg:https://leguide.ma/WP_2022/wp-content/uploads/2026/03/Sahara-01-scaled.jpg
END:VEVENT
END:VCALENDAR