BEGIN:VCALENDAR
VERSION:2.0
PRODID:-//Le guide du Maroc - ECPv6.15.18//NONSGML v1.0//EN
CALSCALE:GREGORIAN
METHOD:PUBLISH
X-ORIGINAL-URL:https://leguide.ma
X-WR-CALDESC:Évènements pour Le guide du Maroc
REFRESH-INTERVAL;VALUE=DURATION:PT1H
X-Robots-Tag:noindex
X-PUBLISHED-TTL:PT1H
BEGIN:VTIMEZONE
TZID:UTC
BEGIN:STANDARD
TZOFFSETFROM:+0000
TZOFFSETTO:+0000
TZNAME:UTC
DTSTART:20250101T000000
END:STANDARD
END:VTIMEZONE
BEGIN:VEVENT
DTSTART;VALUE=DATE:20260327
DTEND;VALUE=DATE:20260413
DTSTAMP:20260419T200911
CREATED:20260327T125711Z
LAST-MODIFIED:20260327T125711Z
UID:31111-1774569600-1776038399@leguide.ma
SUMMARY:Le quarante-septième Moussem culturel international d’Assilah
DESCRIPTION:Evénement \nCe rendez-vous se distinguera par trois ateliers de gravure\, de lithographie et de peinture\, avec la participation d’artistes issus de différents pays\, notamment de Bahreïn\, de Syrie\, d’Espagne\, d’Italie\, de Suède et du Royaume-Uni\, en plus du Maroc. \nLe quarante-septième Moussem culturel international d’Assilah prévoit l’ouverture officielle de sa session printanière vendredi 27 mars. Organisée par la Fondation du Forum d’Assilah\, cette session sera consacrée comme chaque année aux arts plastiques. Ainsi\, elle se distinguera par trois ateliers artistiques\, prévus au prestigieux Palais de la culture au sein de l’ancienne médina. Ces ateliers de gravure\, de lithographie et de peinture connaîtront la participation d’artistes issus de différents pays\, notamment de Bahreïn\, de Syrie\, d’Espagne\, d’Italie\, de Suède et du Royaume-Uni\, en plus du Maroc. Selon la Fondation\, cet événement garde le même objectif\, à savoir créer un lieu de rencontre et d’échange d’expériences entre des artistes venus des quatre coins du monde tout en permettant de contribuer au renforcement de la notoriété d’Assilah comme ville des arts par excellence. \nSuccès retentissant \nLe succès du Moussem annuel de la ville a permis à la Fondation d’obtenir des distinctions dont «le Prix Sultan Qabus pour la culture\, les arts et la littérature dans la catégorie des institutions culturelles privées\, obtenu lors de sa douzième édition\, en reconnaissance de son rôle dans la transformation de la ville d’Assilah en un espace culturel à dimension internationale et de son long parcours de plus de 47 ans dans l’action culturelle ciblée»\, fait part la même source.\nCette session printanière connaîtra une exposition collective à la Galerie Mohamed Benaïssa des beaux-arts au sein du Centre Hassan II des rencontres internationales ainsi qu’un atelier jeunes talents\, prévu au Palais de la culture. Le programme de cette session comporte également un autre atelier d’écriture et d’expression littéraire pour enfants\, dont les travaux auront lieu à la maison de solidarité «Dar Sabah». \nUn Moussem en trois sessions \nLe quarante-septième Moussem culturel d’Assilah se déroulera à l’instar de la précédente édition en trois sessions : printemps\, été et automne. Ces trois rendez-vous sont complémentaires à travers la programmation de leurs activités et en rapport avec la saison où se tiendra chacun d’entre eux. Outre la saison printanière\, celle d’été attire un nombre record de visiteurs nationaux. Le programme de cette session estivale comportera des ateliers de peinture murale et ceux pour jeunes talents ainsi que ceux d’écriture et d’expression littéraire pour enfants.\nTandis que le rendez-vous d’automne prévoit une série de colloques autour des sujets prioritaires et dans les domaines de la politique\, de la diplomatie\, de l’économie\, de la culture et de l’art. Il se distinguera par la remise du prix Buland Al-Haïdari de poésie arabe pour les jeunes poètes. Le programme de cette session comporte des ateliers artistiques\, la «Tente de créativité» et des expositions d’art ainsi que des rencontres-hommages et des soirées musicales.\nRappelons que\, créé il y a plus de quatre décennies\, le Moussem d’Assilah est considéré comme l’un des plus anciens événements culturels et artistiques au Maroc. Il réunit chaque année des personnalités de premier plan issues des mondes de la pensée\, de la politique\, des médias et de la création\, permettant ainsi de contribuer au renforcement de la popularité du Maroc comme lieu de rencontre et de découvertes et de favoriser son développement culturel.
URL:https://leguide.ma/event/le-quarante-septieme-moussem-culturel-international-dassilah/
CATEGORIES:Moussem
ATTACH;FMTTYPE=image/jpeg:https://leguide.ma/WP_2022/wp-content/uploads/2026/03/Assilah-01-scaled.jpg
END:VEVENT
END:VCALENDAR