BEGIN:VCALENDAR
VERSION:2.0
PRODID:-//Le guide du Maroc - ECPv6.15.18//NONSGML v1.0//EN
CALSCALE:GREGORIAN
METHOD:PUBLISH
X-ORIGINAL-URL:https://leguide.ma
X-WR-CALDESC:Évènements pour Le guide du Maroc
REFRESH-INTERVAL;VALUE=DURATION:PT1H
X-Robots-Tag:noindex
X-PUBLISHED-TTL:PT1H
BEGIN:VTIMEZONE
TZID:UTC
BEGIN:STANDARD
TZOFFSETFROM:+0000
TZOFFSETTO:+0000
TZNAME:UTC
DTSTART:20240101T000000
END:STANDARD
END:VTIMEZONE
BEGIN:VEVENT
DTSTART;VALUE=DATE:20250808
DTEND;VALUE=DATE:20250817
DTSTAMP:20260420T065828
CREATED:20250807T161637Z
LAST-MODIFIED:20250807T161637Z
UID:27183-1754611200-1755388799@leguide.ma
SUMMARY:Le Moussem Moulay Abdallah Amghar de retour
DESCRIPTION:Du 8 au 16 août\, le Moussem Moulay Abdallah Amghar revient avec une édition hors norme. Au programme : 120 sorbas\, des soirées avec Abdelaziz Stati et Saïd Senhaji\, des démonstrations de fauconnerie et des mesures inédites pour gérer l’affluence record attendue. \nLa commune de Moulay Abdallah s’apprête à renouer avec l’effervescence du Moussem Moulay Abdallah Amghar\, prévu cette année du 8 au 16 août. Véritable vitrine du patrimoine culturel immatériel de la région de Doukkala\, le Moussem attire chaque année des millions de visiteurs\, marocains et étrangers. \nSelon le président de la commune\, Mehdi El Fatmi\, cette édition 2025 se distingue par un programme conçu pour refléter la diversité des goûts du public. Outre les activités religieuses et culturelles\, les organisateurs ont prévu des soirées artistiques animées par de grandes figures de la musique marocaine\, à l’instar d’Abdelaziz Stati\, Saïda Charaf\, Saïd Senhaji ou encore la troupe d’Ahwach. \nPour fluidifier la circulation sur le site\, une nouvelle organisation logistique a été mise en place. La scène principale des spectacles musicaux a été déplacée vers l’entrée du site afin de limiter les encombrements au cœur du Moussem. \nL’un des temps forts du Moussem reste la Tbourida\, art équestre emblématique du patrimoine marocain. Cette année\, ce sont 120 sorbas masculines et 3 sorbas féminines qui prendront part aux démonstrations. Deux espaces distincts seront aménagés afin de permettre à un public plus large d’assister à ces spectacles très prisés. \nLe Moussem offrira également une programmation intellectuelle\, avec des conférences et des colloques animés par des chercheurs autour de thématiques variées. La fauconnerie\, autre tradition ancestrale\, figurera elle aussi en bonne place dans la programmation. \nRendez-vous incontournable de l’été\, le Moussem Moulay Abdallah Amghar continue d’ancrer la région d’El Jadida comme un pôle culturel et spirituel majeur\, où traditions vivantes et hospitalité se conjuguent pour faire rayonner l’identité marocaine.
URL:https://leguide.ma/event/le-moussem-moulay-abdallah-amghar-de-retour/
LOCATION:El Jadida
CATEGORIES:Moussem
ATTACH;FMTTYPE=image/jpeg:https://leguide.ma/WP_2022/wp-content/uploads/2025/08/Amghar-01-scaled.jpg
END:VEVENT
END:VCALENDAR