BEGIN:VCALENDAR
VERSION:2.0
PRODID:-//Le guide du Maroc - ECPv6.15.18//NONSGML v1.0//EN
CALSCALE:GREGORIAN
METHOD:PUBLISH
X-ORIGINAL-URL:https://leguide.ma
X-WR-CALDESC:Évènements pour Le guide du Maroc
REFRESH-INTERVAL;VALUE=DURATION:PT1H
X-Robots-Tag:noindex
X-PUBLISHED-TTL:PT1H
BEGIN:VTIMEZONE
TZID:UTC
BEGIN:STANDARD
TZOFFSETFROM:+0000
TZOFFSETTO:+0000
TZNAME:UTC
DTSTART:20250101T000000
END:STANDARD
END:VTIMEZONE
BEGIN:VEVENT
DTSTART;VALUE=DATE:20260206
DTEND;VALUE=DATE:20260401
DTSTAMP:20260423T123733
CREATED:20260204T133226Z
LAST-MODIFIED:20260204T133226Z
UID:30099-1770336000-1775001599@leguide.ma
SUMMARY:«Transmission»\, une exposition d’Amine et Ismail Alaoui Fdili au Studio Sana Benzaitar
DESCRIPTION:À l’occasion de la foire d’art contemporain africain 1-54\, le Studio Sana Benzaitar dévoile «Transmission»\, une exposition collaborative inédite réunissant les artistes Amine et Ismail Alaoui Fdili\, du 6 février au 31 mars 2026\, à Marrakech. \nAu-delà de l’événement artistique\, cette exposition marque un tournant symbolique majeur pour le studio : l’affirmation d’une continuité\, artistique et humaine\, inscrite dans le temps long. Cette exposition revêt une dimension particulièrement émouvante. Suite à la disparition de Sana Benzaitar en août 2025\, fondatrice visionnaire dont l’âme imprègne chaque création du studio\, c’est désormais sa sœur\, Raja Benzaitar\, qui reprend le flambeau. \nLoin d’être un simple changement de direction\, le choix de la thématique « Transmission » s’est imposé comme une évidence. Il ne s’agit pas seulement d’exposer des œuvres\, mais d’affirmer la continuité : de sœur à sœur au sein du studio\, de père à fils chez les artistes\, l’exposition affirme la pérennité d’un regard\, d’un geste et d’un engagement. Elle scelle la promesse que l’histoire continue\, portée par la mémoire autant que par l’élan du présent. L’exposition explore la mécanique subtile de l’héritage à travers un dialogue intime entre père et fils. Amine présente une sélection rigoureuse issue de quarante années d’archives\, témoins d’un parcours riche et sédimenté\, tandis qu’Ismail répond à cet héritage par une création contemporaine\, réinterprétant les codes pour mieux se les approprier. \n 
URL:https://leguide.ma/event/transmission-une-exposition-damine-et-ismail-alaoui-fdili-au-studio-sana-benzaitar/
LOCATION:MARRAKECH
CATEGORIES:Exposition
ATTACH;FMTTYPE=image/jpeg:https://leguide.ma/WP_2022/wp-content/uploads/2026/02/Transmission-01-scaled.jpg
END:VEVENT
END:VCALENDAR