BEGIN:VCALENDAR
VERSION:2.0
PRODID:-//Le guide du Maroc - ECPv6.15.18//NONSGML v1.0//EN
CALSCALE:GREGORIAN
METHOD:PUBLISH
X-WR-CALNAME:Le guide du Maroc
X-ORIGINAL-URL:https://leguide.ma
X-WR-CALDESC:Évènements pour Le guide du Maroc
REFRESH-INTERVAL;VALUE=DURATION:PT1H
X-Robots-Tag:noindex
X-PUBLISHED-TTL:PT1H
BEGIN:VTIMEZONE
TZID:UTC
BEGIN:STANDARD
TZOFFSETFROM:+0000
TZOFFSETTO:+0000
TZNAME:UTC
DTSTART:20240101T000000
END:STANDARD
END:VTIMEZONE
BEGIN:VEVENT
DTSTART;VALUE=DATE:20250708
DTEND;VALUE=DATE:20260201
DTSTAMP:20260423T143628
CREATED:20250804T161959Z
LAST-MODIFIED:20250804T161959Z
UID:27095-1751932800-1769903999@leguide.ma
SUMMARY:Tanger: la Fondation pour la photographie accueille une nouvelle exposition
DESCRIPTION:La Fondation pour la photographie de Tanger accueille une exposition singulière qui célèbre l’essence même de la banalité: la nature morte. Du 8 juillet 2025 au 31 janvier 2026\, le public est invité à redécouvrir le monde à travers le regard de grands noms de la photographie contemporaine. Un parti pris audacieux dans un univers saturé par le portrait et la figure humaine\, mais aussi une invitation à ralentir\, à ressentir\, et à porter un regard renouvelé sur les choses ordinaires. \nLa Fondation pour la photographie de Tanger invite à poser un regard neuf sur notre environnement immédiat. Que perçoit-on encore dans un monde saturé d’images humaines? Avec l’exposition «Comment voir les choses»\, la Fondation propose une réponse subtile en remettant à l’honneur un genre souvent relégué au second plan: la nature morte. Présentée du 8 juillet 2025 au 31 janvier 2026\, cette exposition convie le visiteur à redécouvrir la poésie du quotidien à travers le prisme de la photographie contemporaine. \n«Les choses ne sont pas simplement des objets inanimés\, elles sont des narrateurs silencieux de notre histoire personnelle et collective»\, déclare Alexis Fabry\, commissaire de l’exposition. «La Fondation renverse notre regard et consacre sa nouvelle exposition à ce genre silencieux qui dit pourtant tant du monde et de notre rapport à lui»\, ajoute-t-il. «À travers leurs œuvres\, nous sommes invités à ralentir\, à contempler et à ressentir la profondeur cachée derrière chaque scène apparemment banale»\, poursuit-il. \nÀ travers un parcours visuel à la fois riche et délicat\, les visiteurs sont conviés à découvrir les œuvres de photographes de renommée internationale tels que Martin Parr\, Thomas Ruff\, Éric Poitevin\, Hicham Benohoud\, Jan Groover ou encore Man Ray. Leurs clichés\, minutieusement sélectionnés pour leur capacité à révéler la puissance d’un détail\, à sublimer la mise en scène du quotidien ou à extraire la beauté de l’insignifiant\, composent une fresque sensible et silencieuse de notre relation aux objets et à ce qui nous entoure. \n«Tout est si simple\, si ordinaire\, mais si beau»\, affirme Daniel Aaron\, président de la Fondation et co-commissaire de l’exposition. «Cette exposition célèbre la façon dont les objets vivent autour de nous. Nous agissons sur eux et ils agissent sur nous»\, ajoute-t-il. «Les artistes\, peintres ou photographes\, ont été les premiers à prendre les choses au sérieux»\, conclut-il. \nLe cadre même de l’exposition renforce l’expérience immersive. Le bâtiment\, chaulé de blanc\, oscille entre angles vifs et courbes d’inspiration moderniste\, contribuant à une esthétique épurée\, presque silencieuse. «Les maîtres des lieux\, Françoise et Daniel\, ont eu l’intuition – fort juste à mon sens – qu’une exposition consacrée à la manière dont les choses s’agencent ou sont agencées au quotidien trouverait ici un écrin particulièrement adapté»\, souligne Alexis Fabry. \n«Je me suis employé à en dessiner les contours\, sans autre discipline que le goût pour les images\, l’admiration pour leurs auteurs\, augmentée parfois par l’amitié\, et une inclination pour les cultures vernaculaires»\, poursuit-il. «J’en veux pour preuve les subtils portraits d’intérieur de Daniel Aron\, que je suis particulièrement heureux d’accueillir\, si je puis dire\, chez lui»\, conclut-il. \nCette exposition s’inscrit dans la mission élargie de la Fondation pour la photographie de Tanger\, premier espace privé entièrement consacré à la photographie au Maroc. Inaugurée en 2018\, la Fondation abrite une collection permanente\, accueille régulièrement des expositions temporaires de grande qualité\, et se veut un lieu vivant de dialogue et de transmission entre artistes\, professionnels de l’image et grand public. \nL’exposition est accessible tous les jours de 10h30 à 18h30\, à l’exception du lundi. Le tarif d’entrée est fixé à 100 dirhams en plein tarif\, et à 50 dirhams pour les citoyens marocains ainsi que les résidents. L’accès est gratuit pour les enfants de moins de 12 ans\, ainsi que pour les étudiants sur présentation d’une carte en cours de validité. \n 
URL:https://leguide.ma/event/tanger-la-fondation-pour-la-photographie-accueille-une-nouvelle-exposition/
LOCATION:Tanger
CATEGORIES:Exposition
ATTACH;FMTTYPE=image/jpeg:https://leguide.ma/WP_2022/wp-content/uploads/2025/08/Tanger-01-scaled.jpg
END:VEVENT
BEGIN:VEVENT
DTSTART;VALUE=DATE:20251030
DTEND;VALUE=DATE:20260301
DTSTAMP:20260423T143628
CREATED:20251113T150033Z
LAST-MODIFIED:20251113T150033Z
UID:28735-1761782400-1772323199@leguide.ma
SUMMARY:Galerie Banque Populaire: l’exposition «Quatre voix\, une terre»
DESCRIPTION:L’exposition «Quatre voix\, une terre»\, inaugurée le 30 octobre à la Galerie Banque Populaire et visible jusqu’au 28 février 2026\, invite à un voyage au cœur de la création contemporaine africaine. À travers les regards croisés d’artistes venus du Maroc\, du Sénégal et de la République démocratique du Congo\, cet événement met en lumière la richesse\, la diversité et la vitalité d’une scène artistique en pleine affirmation. \nLa Galerie Banque Populaire accueille\, du 30 octobre 2025 au 28 février 2026\, l’exposition «Quatre voix\, une terre»\, véritable célébration de l’art contemporain africain. Quatre artistes y portent la diversité du continent: Hiba Baddou et Abdelmalik Berhiss pour le Maroc\, Amadou Camara Gueye pour le Sénégal et Djo Ilanga pour la République démocratique du Congo. \nCette exposition incarne la diversité\, la profondeur et la vitalité d’une scène artistique africaine en pleine affirmation sur la scène internationale. Leurs trajectoires sont différentes\, leurs esthétiques singulières\, mais tous portent une même appartenance au continent africain et une volonté commune d’ouvrir de nouvelles perspectives sur le monde. \nHiba Baddou explore les tensions du monde contemporain dans un style à la fois naïf et intuitif\, porté par la musique et nourri de son vécu personnel. Abdelmalik Berhiss\, artiste autodidacte originaire d’Essaouira\, convie\, lui\, à un voyage intérieur au sein d’un univers résolument onirique. À son tour\, Amadou Camara Gueye peint avec une grande sincérité la vie quotidienne de Dakar et de ses habitants\, tandis que Djo Ilanga\, originaire de la République démocratique du Congo\, signe des portraits habités par la mémoire et l’imaginaire africains. \n«Ces quatre artistes incarnent la pluralité et la force de l’art africain contemporain. Leurs œuvres révèlent un continent qui s’invente sans cesse\, où la mémoire et la créativité s’inscrivent dans le présent tout en s’ouvrant largement au monde»\, déclare Adil Rzal\, président du Directoire de la Banque Populaire Rabat-Kénitra. \nÀ travers cette exposition\, le Groupe BCP réaffirme son engagement en faveur de la création artistique africaine contemporaine\, en offrant un espace d’expression\, de rencontre et de découverte aux talents confirmés comme aux artistes émergents. \n  \n 
URL:https://leguide.ma/event/galerie-banque-populaire-lexposition-quatre-voix-une-terre/
LOCATION:RABAT
CATEGORIES:Exposition
ATTACH;FMTTYPE=image/jpeg:https://leguide.ma/WP_2022/wp-content/uploads/2025/11/Populaire-01-scaled.jpg
END:VEVENT
BEGIN:VEVENT
DTSTART;VALUE=DATE:20260106
DTEND;VALUE=DATE:20260130
DTSTAMP:20260423T143628
CREATED:20260107T160710Z
LAST-MODIFIED:20260107T160710Z
UID:29693-1767657600-1769731199@leguide.ma
SUMMARY:« 60 ans de peinture au Maroc : 150 artistes à l’honneur »
DESCRIPTION:Le Syndicat National des Artistes Plasticiens Professionnels\, en partenariat avec le ministère de la Jeunesse\, de la Culture et de la Communication (Département de la Culture)\, une grande exposition itinérante intitulée « 60 ans de peinture au Maroc » sera inaugurée en janvier 2026\, sous le Haut Patronage de Sa Majesté le Roi Mohammed VI. \nCette manifestation rend hommage à six décennies de création picturale marocaine et prolonge l’élan de l’événement « 50 ans de peinture au Maroc »\, organisé en 2015. Au total\, 150 artistes marocains seront présentés\, offrant un panorama de l’évolution de la peinture nationale depuis les années 1960. \nL’exposition\, qui ouvrira l’année culturelle 2026\, se déploiera dans cinq grandes villes : Rabat\, Tanger\, Casablanca\, Marrakech et Laâyoune. L’inauguration se tiendra à Rabat\, du 6 au 29 janvier 2026\, dans quatre lieux emblématiques : la Galerie Nationale Bab Rouah\, la Galerie Bab El Kébir aux Oudayas\, la Villa des Arts et le Musée Bank Al Maghrib. \nPour prolonger la mémoire de cet événement et souligner son importance culturelle\, un livre d’art accompagnera l’exposition\, retraçant le parcours des artistes et les moments clés de six décennies de peinture marocaine. \n 
URL:https://leguide.ma/event/60-ans-de-peinture-au-maroc-150-artistes-a-lhonneur/
LOCATION:RABAT
CATEGORIES:Exposition
ATTACH;FMTTYPE=image/jpeg:https://leguide.ma/WP_2022/wp-content/uploads/2026/01/Exposition-01-scaled.jpg
END:VEVENT
END:VCALENDAR