BEGIN:VCALENDAR
VERSION:2.0
PRODID:-//Le guide du Maroc - ECPv6.15.18//NONSGML v1.0//EN
CALSCALE:GREGORIAN
METHOD:PUBLISH
X-WR-CALNAME:Le guide du Maroc
X-ORIGINAL-URL:https://leguide.ma
X-WR-CALDESC:Évènements pour Le guide du Maroc
REFRESH-INTERVAL;VALUE=DURATION:PT1H
X-Robots-Tag:noindex
X-PUBLISHED-TTL:PT1H
BEGIN:VTIMEZONE
TZID:UTC
BEGIN:STANDARD
TZOFFSETFROM:+0000
TZOFFSETTO:+0000
TZNAME:UTC
DTSTART:20250101T000000
END:STANDARD
END:VTIMEZONE
BEGIN:VEVENT
DTSTART;VALUE=DATE:20260308
DTEND;VALUE=DATE:20260511
DTSTAMP:20260420T023335
CREATED:20260226T135036Z
LAST-MODIFIED:20260226T135129Z
UID:30644-1772928000-1778457599@leguide.ma
SUMMARY:Le 9ème Festival Gnaoua Show de Marrakech
DESCRIPTION:En collaboration avec l’Association Le Grand Atlas (AGA) et l’Association Hmitti pour la culture et la création artistique et en partenariat avec le ministère de la jeunesse\, de la culture et de la communication (département de la culture)\, avec la coordination du conseil communal de Marrakech\, le conseil de la région Marrakech-Safi\, le conseil de la ville et Al Omrane\, la Fondation du Festival Gnaoua Show de Marrakech organise du 8 au 10 mai sa 9ème édition. \nCette édition verra la participation exceptionnelle des plus célèbres Maâlems gnaouis issus de différentes régions du Royaume\, sous la houlette du Maâlem Othman Hmitti.\nDepuis sa naissance\, ce Festival de musique afro-gnaouie connaît un rayonnement national et international\, porté par l’expansion de la musique urbaine marocaine et africaine et met encore une fois la diversité musicale à l’honneur\, entre grandes légendes… Le Gnaoua Show 2026 sera l’occasion de vivre des moments exceptionnels sur les plus grandes scènes de la ville ocre\, où seront organisés des concerts uniques qui attireront certainement des milliers de spectateurs. \nChaque année\, ce festival rassemble un nombre impressionnant de fans\, de visiteurs étrangers et nationaux pendant trois jours. Au rendez-vous\, des performances de musiques traditionnelles afro-gnaoui et arabe\, le tout dans un cadre idyllique avec une vue spectaculaire sur la célèbre place Jemaâ El Fna. C’est bien plus qu’un simple festival\, une véritable institution musicale qui transforme Marrakech\, l’ex-impériale ville des Almohades\, en capitale mondiale de toutes les musiques. Entre décors grandioses\, ambiance survoltée et organisation impeccable\, le Gnaoua Show s’impose comme l’un des festivals les plus impressionnants et incontournables du Royaume et dans le monde à l’instar du Festival national des arts populaires de Marrakech qui a lieu chaque année en été. \nChaque édition rassemble des centaines\, voire des milliers de festivaliers\, venus des quatre coins du globe pour assister à des performances mémorables\, c’est bien plus qu’un festival\, c’est une expérience visuelle et sonore absolument folle! Un festival où chaque année les scènes sont époustouflantes\, la scénographie digne d’un film de science-fiction et la musique purement électrisante entre danses et performances artistiques\, un festival qui combine une ambiance festive avec une grande diversité musicale\, transes et musique spirituelle née du fin fond des siècles africains.\nLe tout\, dans une ambiance conviviale et festive où l’originalité et la créativité sont de mise. \nCette 9ème édition transportera le public dans des répertoires des plus vibrants\, de musique afro-traditionnelle et d’arrangements musicaux contemporains qui mêlent soul\, jazz et musique gnaouie séculaire et ancestrale. Ces chants et danses sont une fenêtre sur l’inconscient\, vibrant de tensions\, d’émotions et de sens cachés\, un véritable swing irrésistible dans la pure tradition des voix puissantes de plusieurs et célèbres Maâlems gnaouis\, artistes multidisciplinaires de renommée nationale et internationale\, qui avaient contribué à la réussite spectaculaire de la 8ème édition.\nLa programmation est une cascade de nouveautés et un dialogue sensible entre son et image\, qui propose un moment suspendu\, mêlant improvisation musicale et univers visuels et visionnaires dont l’influence continue de façonner le paysage de l’art afro-gnaoui traditionnel et contemporain créant des mondes où l’imaginaire et le réel cohabitent réellement. \n  \n 
URL:https://leguide.ma/event/le-9eme-festival-gnaoua-show-de-marrakech/
LOCATION:MARRAKECH
CATEGORIES:Festival
ATTACH;FMTTYPE=image/jpeg:https://leguide.ma/WP_2022/wp-content/uploads/2026/02/Gnaoua-01-scaled.jpg
END:VEVENT
BEGIN:VEVENT
DTSTART;VALUE=DATE:20260416
DTEND;VALUE=DATE:20260428
DTSTAMP:20260420T023335
CREATED:20260318T125150Z
LAST-MODIFIED:20260318T125150Z
UID:30958-1776297600-1777334399@leguide.ma
SUMMARY:La 11e édition du Festival Jidar-Rabat Street Art
DESCRIPTION:Les candidatures sont ouvertes pour participer au projet « Mur collectif » de la 11e édition du Festival Jidar-Rabat Street Art qui se tiendra du 16 au 27 avril 2026\, annoncent les organisateurs. \nVéritable incubateur de talents\, ce projet vise à créer un espace de transmission et d’expérimentation dédié aux artistes en herbe\, aux étudiants en écoles d’art et aux passionnés de culture urbaine\, précisent les organisateurs dans un communiqué. \nDu 20 au 26 avril prochain\, douze candidats sélectionnés auront l’opportunité de concevoir une œuvre monumentale au sein d’un cadre bienveillant\, axé sur le partage et l’exploration technique\, précise la même source. \nL’édition 2026 aura pour mentor l’artiste « Bakr ». Son parcours alliant savoir-faire classique acquis de Fès et art académique des Beaux-Arts de Casablanca\, offre aux nouvelles générations un modèle inspirant mêlant héritage familial et énergie brute du Street Art. \nLa participation à cette aventure offre aux talents émergents l’opportunité de bénéficier d’un encadrement professionnel et d’une collaboration entre de jeunes artistes venus des quatre coins du Royaume du Maroc\, ce qui ouvre pour les audacieux\, la perspective d’intégrer prochainement la programmation officielle du Festival. \nLes personnes intéressées sont invitées à soumettre en ligne leur dossier de candidature\, composé d’un formulaire d’inscription dûment rempli et d’un portfolio\, avant le 05 avril à minuit. Les candidats doivent impérativement être disponibles à Rabat tout au long de la période de l’événement\, conclut le communiqué.
URL:https://leguide.ma/event/la-11e-edition-du-festival-jidar-rabat-street-art/
LOCATION:RABAT
CATEGORIES:Festival
ATTACH;FMTTYPE=image/jpeg:https://leguide.ma/WP_2022/wp-content/uploads/2026/03/Jidar-01-scaled.jpg
END:VEVENT
END:VCALENDAR